BEGIN:VCALENDAR
VERSION:2.0
PRODID:-//eventon.com NONSGML v1.0//EN
BEGIN:VEVENT
UID:69eb7def27c0b
DTSTAMP:20260424T162759
DTSTART:20230917T213000Z
DTEND:20230917T230000Z
TZID:Pacific/Midway
LOCATION:
SUMMARY:Muze van Zuid
DESCRIPTION: Het gelauwerde Animato strijkkwartet viert zijn 10e jaar. Het laat zich inspireren door een sculptuur van legendarische Hongaarse voorgangers. Al sinds 1967 prijkt het beeld &#8216;Strijkkwartet&#8217; in het Concertgebouw. De vier musici van het Hongaars Strijkkwartet stonden in de jaren zestig model daarvoor. Veel muziekliefhebbers zullen het kennen als een[..]\nhttps://pieterdekoe.nl/events/muze-van-zuid/
URL:https://pieterdekoe.nl/events/muze-van-zuid/
END:VEVENT
END:VCALENDAR